BEGIN:VCALENDAR
VERSION:2.0
PRODID:-//wp-events-plugin.com//7.2.2//EN
BEGIN:VEVENT
UID:27@arlingtonhasit.org
DTSTART:20250920T120000Z
DTEND:20250920T180000Z
DTSTAMP:20250405T054558Z
URL:https://arlingtonhasit.org/events/arlington-street-fair/
SUMMARY:Arlington Street Fair
DESCRIPTION:The 25th Annual Arlington Street Fair\nTake part in this well-a
 ttended local tradition! Inflatable rides\, live entertainment\, musical g
 uests\, and 100+ vendors – including restaurants\, shops\, and craftspeo
 ple. The event will transform Raymond Avenue and reaches from the corner o
 f Fulton and Collegeview Avenues to Davis Avenue. Admission to the fair is
  free and attendees will enjoy a series of scheduled events throughout the
  day from 12:00 pm to 6:00 pm.\n\nThe Arlington Street Fair is sponsored b
 y the Arlington Business Improvement District\, Vassar College and I Heart
  Media.
ATTACH;FMTTYPE=image/jpeg:https://arlingtonhasit.org/wp-content/uploads/20
 25/04/the-annual-arts-and-crafts-stree.png
CATEGORIES:Arlington Street Fair
LOCATION:Arlington Business District\, Arlington Business District\, Raymon
 d Ave \, Poughkeepsie NY\, NY\, 12603\, Poughkeepsie\, United States
X-APPLE-STRUCTURED-LOCATION;VALUE=URI;X-ADDRESS=Arlington Business District
 \, Raymond Ave \, Poughkeepsie NY\, NY\, 12603\, Poughkeepsie\, United Sta
 tes;X-APPLE-RADIUS=100;X-TITLE=Arlington Business District:geo:0,0
END:VEVENT
END:VCALENDAR